BEGIN:VCALENDAR
PRODID://WordPress//Event-Post-V5.9.2//EN
VERSION:2.0
BEGIN:VTIMEZONE
TZID:Europe/London
BEGIN:DAYLIGHT
TZOFFSETFROM:+0100
TZOFFSETTO:+0100
DTSTART:19700329T020000
RRULE:FREQ=YEARLY;BYDAY=-1SU;BYMONTH=3
END:DAYLIGHT
BEGIN:STANDARD
TZOFFSETFROM:+0100
TZOFFSETTO:+0100
TZNAME:CET
DTSTART:19701025T030000
RRULE:FREQ=YEARLY;BYDAY=-1SU;BYMONTH=10
END:STANDARD
END:VTIMEZONE
BEGIN:VEVENT
SUMMARY:#301a The Quiet Revival
UID:https://icmda.net/focl6/
LOCATION:
DTSTAMP:20260615T180000
DTSTART;TZID=Europe/London:20260615T180000
DTEND;TZID=Europe/London:20260615T190000
DESCRIPTION:15 June, 18:00 UTC+1	
	In many parts of the world, there are growing reports of a "quiet revival"
- a surprising openness to the Christian faith, particularly among younger
generations and those previously disengaged from church. What's driving
this renewed spiritual curiosity? And how should we respond wisely,
faithfully, and expectantly?
Join Rico Tice for this timely and insightful discussion with Peter
Saunders, CEO of ICMDA, as they explore the cultural and spiritual dynamics
behind this emerging trend. Drawing on Rico's experience in evangelism and
discipleship, they will help us make sense of what we're seeing, why now,
and how Christians can thoughtfully engage in conversations about Jesus in
a changing landscape.
			
							REGISTER
END:VEVENT
END:VCALENDAR